BEGIN:VCALENDAR
VERSION:2.0
PRODID:-//Lead Maine - ECPv6.15.20//NONSGML v1.0//EN
CALSCALE:GREGORIAN
METHOD:PUBLISH
X-WR-CALNAME:Lead Maine
X-ORIGINAL-URL:https://leadmaine.com
X-WR-CALDESC:Events for Lead Maine
REFRESH-INTERVAL;VALUE=DURATION:PT1H
X-Robots-Tag:noindex
X-PUBLISHED-TTL:PT1H
BEGIN:VTIMEZONE
TZID:America/New_York
BEGIN:DAYLIGHT
TZOFFSETFROM:-0500
TZOFFSETTO:-0400
TZNAME:EDT
DTSTART:20250309T070000
END:DAYLIGHT
BEGIN:STANDARD
TZOFFSETFROM:-0400
TZOFFSETTO:-0500
TZNAME:EST
DTSTART:20251102T060000
END:STANDARD
BEGIN:DAYLIGHT
TZOFFSETFROM:-0500
TZOFFSETTO:-0400
TZNAME:EDT
DTSTART:20260308T070000
END:DAYLIGHT
BEGIN:STANDARD
TZOFFSETFROM:-0400
TZOFFSETTO:-0500
TZNAME:EST
DTSTART:20261101T060000
END:STANDARD
BEGIN:DAYLIGHT
TZOFFSETFROM:-0500
TZOFFSETTO:-0400
TZNAME:EDT
DTSTART:20270314T070000
END:DAYLIGHT
BEGIN:STANDARD
TZOFFSETFROM:-0400
TZOFFSETTO:-0500
TZNAME:EST
DTSTART:20271107T060000
END:STANDARD
END:VTIMEZONE
BEGIN:VEVENT
DTSTART;TZID=America/New_York:20260423T180000
DTEND;TZID=America/New_York:20260423T200000
DTSTAMP:20260423T013147
CREATED:20260415T172952Z
LAST-MODIFIED:20260415T172952Z
UID:1444-1776967200-1776974400@leadmaine.com
SUMMARY:From the Classroom to the State House: Grassroots Training for Parent Leaders
DESCRIPTION:Join Americans for Prosperity and Parents Rights in Education for a hands-on training series designed for parents\, educators\, and community advocates who want to make a real difference in education. They will give you the real tools needed to protect parental rights and push back against government overreach in our schools. \nWhether you’re just getting started in advocacy or looking to sharpen your skills and expand your network\, this training meets you where you are. Every session is designed to build your confidence and connect you with like-minded leaders who share your commitment to putting families first in education. \nUpcoming Sessions:\n📅 April 23rd | June 25th | August 27th\n🕕 6:00 PM – 8:00 PM\n🍽️ Dinner provided with registration
URL:https://leadmaine.com/event/from-the-classroom-to-the-state-house-grassroots-training-for-parent-leaders/
LOCATION:Lewiston\, Maine\, Lewiston\, Maine
CATEGORIES:Trainings
END:VEVENT
BEGIN:VEVENT
DTSTART;TZID=America/New_York:20260507T180000
DTEND;TZID=America/New_York:20260507T200000
DTSTAMP:20260423T013147
CREATED:20260422T183617Z
LAST-MODIFIED:20260422T183618Z
UID:1455-1778176800-1778184000@leadmaine.com
SUMMARY:Pray for Maine
DESCRIPTION:Join us on May 7\, 2026\, from 6:00–8:00 PM (rain or shine) at Capitol Park\, across from the State House in Augusta\, for an evening of worship and prayer for the state of Maine. \nThis will be a simple but powerful gathering focused on seeking God together for renewal in our communities and our state. The evening will include live worship\, guided prayer led by pastors from across Maine\, and time in small groups to pray specifically for our towns and regions. \nWe believe lasting change begins with a change of heart\, and we are coming together to ask God to do what only He can do. \nThis is an evening you won’t want to miss. Come join the movement!
URL:https://leadmaine.com/event/pray-for-maine/
LOCATION:Capitol Park\, Union Street\, Augusta\, Maine\, 04330
ATTACH;FMTTYPE=image/png:https://leadmaine.com/wp-content/uploads/formidable/6/CCLM-PFM-slideforchurches.png
END:VEVENT
END:VCALENDAR